BEGIN:VCALENDAR
VERSION:2.0
PRODID:-//DOS - ECPv6.15.20//NONSGML v1.0//EN
CALSCALE:GREGORIAN
METHOD:PUBLISH
X-ORIGINAL-URL:https://dutchorbitalsociety.nl
X-WR-CALDESC:Evenementen voor DOS
REFRESH-INTERVAL;VALUE=DURATION:PT1H
X-Robots-Tag:noindex
X-PUBLISHED-TTL:PT1H
BEGIN:VTIMEZONE
TZID:Europe/Amsterdam
BEGIN:DAYLIGHT
TZOFFSETFROM:+0100
TZOFFSETTO:+0200
TZNAME:CEST
DTSTART:20250330T010000
END:DAYLIGHT
BEGIN:STANDARD
TZOFFSETFROM:+0200
TZOFFSETTO:+0100
TZNAME:CET
DTSTART:20251026T010000
END:STANDARD
BEGIN:DAYLIGHT
TZOFFSETFROM:+0100
TZOFFSETTO:+0200
TZNAME:CEST
DTSTART:20260329T010000
END:DAYLIGHT
BEGIN:STANDARD
TZOFFSETFROM:+0200
TZOFFSETTO:+0100
TZNAME:CET
DTSTART:20261025T010000
END:STANDARD
BEGIN:DAYLIGHT
TZOFFSETFROM:+0100
TZOFFSETTO:+0200
TZNAME:CEST
DTSTART:20270328T010000
END:DAYLIGHT
BEGIN:STANDARD
TZOFFSETFROM:+0200
TZOFFSETTO:+0100
TZNAME:CET
DTSTART:20271031T010000
END:STANDARD
END:VTIMEZONE
BEGIN:VEVENT
DTSTART;VALUE=DATE:20260318
DTEND;VALUE=DATE:20260323
DTSTAMP:20260421T180023
CREATED:20250708T111843Z
LAST-MODIFIED:20250708T111843Z
UID:258346-1773792000-1774223999@dutchorbitalsociety.nl
SUMMARY:ESOPRS Winter Meeting
DESCRIPTION:The Alpine Capital of Scandinavia\nGet ready for an unforgettable experience at ESOPRS Winter Meeting 2026 in Åre! Whether you’re looking for venue details\, travel insights\, or exciting adventures\, you’ll find everything you need right here.
URL:https://dutchorbitalsociety.nl/event/esoprs-winter-meeting/
LOCATION:Hotel Fjällgården Åre\, Fjällgårdsvägen 35\, Åre\, 837 51\, Sweden
ATTACH;FMTTYPE=image/jpeg:https://dutchorbitalsociety.nl/wp-content/uploads/2025/07/ESOPRS-full-member-meeting.jpg
END:VEVENT
END:VCALENDAR